BEGIN:VCALENDAR
VERSION:2.0
PRODID:-//Wahkeena Nature Preserve - ECPv6.15.20//NONSGML v1.0//EN
CALSCALE:GREGORIAN
METHOD:PUBLISH
X-WR-CALNAME:Wahkeena Nature Preserve
X-ORIGINAL-URL:https://wahkeenanaturepreserve.com
X-WR-CALDESC:Events for Wahkeena Nature Preserve
REFRESH-INTERVAL;VALUE=DURATION:PT1H
X-Robots-Tag:noindex
X-PUBLISHED-TTL:PT1H
BEGIN:VTIMEZONE
TZID:UTC
BEGIN:STANDARD
TZOFFSETFROM:+0000
TZOFFSETTO:+0000
TZNAME:UTC
DTSTART:20240101T000000
END:STANDARD
END:VTIMEZONE
BEGIN:VEVENT
DTSTART;TZID=UTC:20250413T130000
DTEND;TZID=UTC:20250413T143000
DTSTAMP:20260423T151935
CREATED:20250406T153136Z
LAST-MODIFIED:20250406T153136Z
UID:5565-1744549200-1744554600@wahkeenanaturepreserve.com
SUMMARY:Spring Wildflower Hike
DESCRIPTION:Join the naturalist for leisurely hike to explore the early spring woodland wildflowers. Flower ID\, folklore and other topics of natural history will be explored along the way. Start time: 1pm. 90 Minutes.
URL:https://wahkeenanaturepreserve.com/event/spring-wildflower-hike/
END:VEVENT
END:VCALENDAR